BEGIN:VCALENDAR
VERSION:2.0
PRODID:-//Lee Middleman - ECPv6.15.17.1//NONSGML v1.0//EN
CALSCALE:GREGORIAN
METHOD:PUBLISH
X-ORIGINAL-URL:https://leemiddleman.com
X-WR-CALDESC:Events for Lee Middleman
REFRESH-INTERVAL;VALUE=DURATION:PT1H
X-Robots-Tag:noindex
X-PUBLISHED-TTL:PT1H
BEGIN:VTIMEZONE
TZID:America/Los_Angeles
BEGIN:DAYLIGHT
TZOFFSETFROM:-0800
TZOFFSETTO:-0700
TZNAME:PDT
DTSTART:20250309T100000
END:DAYLIGHT
BEGIN:STANDARD
TZOFFSETFROM:-0700
TZOFFSETTO:-0800
TZNAME:PST
DTSTART:20251102T090000
END:STANDARD
BEGIN:DAYLIGHT
TZOFFSETFROM:-0800
TZOFFSETTO:-0700
TZNAME:PDT
DTSTART:20260308T100000
END:DAYLIGHT
BEGIN:STANDARD
TZOFFSETFROM:-0700
TZOFFSETTO:-0800
TZNAME:PST
DTSTART:20261101T090000
END:STANDARD
BEGIN:DAYLIGHT
TZOFFSETFROM:-0800
TZOFFSETTO:-0700
TZNAME:PDT
DTSTART:20270314T100000
END:DAYLIGHT
BEGIN:STANDARD
TZOFFSETFROM:-0700
TZOFFSETTO:-0800
TZNAME:PST
DTSTART:20271107T090000
END:STANDARD
BEGIN:DAYLIGHT
TZOFFSETFROM:-0800
TZOFFSETTO:-0700
TZNAME:PDT
DTSTART:20280312T100000
END:DAYLIGHT
BEGIN:STANDARD
TZOFFSETFROM:-0700
TZOFFSETTO:-0800
TZNAME:PST
DTSTART:20281105T090000
END:STANDARD
END:VTIMEZONE
BEGIN:VTIMEZONE
TZID:America/New_York
BEGIN:DAYLIGHT
TZOFFSETFROM:-0500
TZOFFSETTO:-0400
TZNAME:EDT
DTSTART:20250309T070000
END:DAYLIGHT
BEGIN:STANDARD
TZOFFSETFROM:-0400
TZOFFSETTO:-0500
TZNAME:EST
DTSTART:20251102T060000
END:STANDARD
BEGIN:DAYLIGHT
TZOFFSETFROM:-0500
TZOFFSETTO:-0400
TZNAME:EDT
DTSTART:20260308T070000
END:DAYLIGHT
BEGIN:STANDARD
TZOFFSETFROM:-0400
TZOFFSETTO:-0500
TZNAME:EST
DTSTART:20261101T060000
END:STANDARD
BEGIN:DAYLIGHT
TZOFFSETFROM:-0500
TZOFFSETTO:-0400
TZNAME:EDT
DTSTART:20270314T070000
END:DAYLIGHT
BEGIN:STANDARD
TZOFFSETFROM:-0400
TZOFFSETTO:-0500
TZNAME:EST
DTSTART:20271107T060000
END:STANDARD
END:VTIMEZONE
BEGIN:VEVENT
DTSTART;VALUE=DATE:20260502
DTEND;VALUE=DATE:20260504
DTSTAMP:20260423T084514
CREATED:20230812T214528Z
LAST-MODIFIED:20260317T214929Z
UID:3742-1777680000-1777852799@leemiddleman.com
SUMMARY:Spring Open Studio & Gallery - 2026
DESCRIPTION:I will be featuring my highly textured vases. The Sun Flower vases pictured are examples. They are in national and regional museums in Asia and Europe. \nI will also feature a new series of crater-glazed and crackle pieces in his large gallery space. \n  \n 
URL:https://leemiddleman.com/upcoming-shows-event/spring-open-studio-gallery-2024/
LOCATION:Lee’s Studio @ 16Coal Mine View.Portola Vally\, 16 COAL MINE VW\, PORTOLA VALLEY\, CA\, 94028\, United States
ATTACH;FMTTYPE=image/jpeg:https://leemiddleman.com/wp-content/uploads/2026/03/1-Postcard-Image-522o523L512B-IMG_0066-scaled.jpeg
END:VEVENT
BEGIN:VEVENT
DTSTART;TZID=America/New_York:20260619T120000
DTEND;TZID=America/New_York:20260818T200000
DTSTAMP:20260423T084514
CREATED:20251217T015804Z
LAST-MODIFIED:20251217T214652Z
UID:4353-1781870400-1787083200@leemiddleman.com
SUMMARY:Clay Replacing Plastic
DESCRIPTION:Lee’s piece\, “Ruby Diamond Vase” will be exhibited in the International Academy of Ceramics Exhibition “Clay Replacing Plastic” at the Sculpture Space NYC – Center for Ceramic Arts in New York City. June\, 2026 Based in Geneva\, the International Academy of Ceramics is the principal organization representing the interests of ceramists worldwide. Lee was elected a member of the academy in 2019.
URL:https://leemiddleman.com/upcoming-shows-event/clay-replacing-plastic/
LOCATION:Sculpture Space NYC – Center for Ceramic Arts\, 47-21 35th St.\, Long Island City\, NY\, 11101\, United States
ATTACH;FMTTYPE=image/jpeg:https://leemiddleman.com/wp-content/uploads/2025/12/Clay-Repacing-Plastic-IAC-2024.jpg
END:VEVENT
BEGIN:VEVENT
DTSTART;VALUE=DATE:20260711
DTEND;VALUE=DATE:20260713
DTSTAMP:20260423T084514
CREATED:20230411T213059Z
LAST-MODIFIED:20260223T001520Z
UID:3678-1783728000-1783900799@leemiddleman.com
SUMMARY:ACGA Palo Alto Clay & Glass Festival 2026
DESCRIPTION:The prestigious ACGA Clay & Glass Festival in Palo Alto features a free and fun-filled celebration of ceramic and glass art. Featuring both fine and functional art\, the ACGA Clay & Glass Festival boasts more than 130 juried artists displaying their best work. \nShop for unique\, one-of-a-kind artwork while you meet the artists. Attendees will also enjoy several demonstrations of hands-on activities\, including pottery-making and ikebana demonstrations\, as well as an interactive clay project for artists of all ages. \nDiscover unique pieces of the finest quality glass and clay art that will make a beautiful addition to any home or garden. Select from handcrafted stunning pottery\, unique jewelry and show-stopping glass art and sculptures. \nPick up a Festival map when you get to the show for exact demonstration locations. \n\n\nFree admission \n\n\nOutdoors in the gardens surrounding the Palo Alto Art Center \n\n\nValet parking available at the Palo Alto Art Center \n\n\nHosted by the Association of Clay and Glass Artists of California (ACGA) \n\n\nCo-sponsored by the Palo Alto Art Center
URL:https://leemiddleman.com/upcoming-shows-event/acga-palo-alto-ceramics-festival/
LOCATION:Palo Alto Art Center\, 1313 Newell Rd\,\, Palo Alto\, CA\, 94303\, United States
ATTACH;FMTTYPE=image/jpeg:https://leemiddleman.com/wp-content/uploads/2023/04/ACGA_PA_Logo_2018Final.jpg
END:VEVENT
BEGIN:VEVENT
DTSTART;TZID=America/Los_Angeles:20261205T100000
DTEND;TZID=America/Los_Angeles:20261206T170000
DTSTAMP:20260423T084514
CREATED:20250622T223219Z
LAST-MODIFIED:20260223T001834Z
UID:3937-1796464800-1796576400@leemiddleman.com
SUMMARY:Winter Open Studio
DESCRIPTION:I will be holding my annual Winter Open Studio at 16 Coal Mine View\, Portola Valley\, CA from 10am to 5 pm on Saturday and Sunday\, December 5 & 6\, 2026.. \nI will be presenting a new series of serving platters\, that I recently designed. See the image here.  I will of course be displaying my “classic” pieces as well.
URL:https://leemiddleman.com/upcoming-shows-event/lee-middlemans-winter-open-studio/
LOCATION:Lee’s Studio\, 16 Coal Mine View\, Portola Valley\, CA
ATTACH;FMTTYPE=image/jpeg:https://leemiddleman.com/wp-content/uploads/2025/10/PUNCH-page-2.jpg
END:VEVENT
BEGIN:VEVENT
DTSTART;VALUE=DATE:20271019
DTEND;VALUE=DATE:20271110
DTSTAMP:20260423T084514
CREATED:20230411T211302Z
LAST-MODIFIED:20260223T001007Z
UID:3669-1823904000-1825804799@leemiddleman.com
SUMMARY:Kanayama Wood Fire Festival/Workshop - Goshogawara\, Japan
DESCRIPTION:I am pleased to announce the “2025 Invitational Woodfire Workshop” sponsored by Tsugaru Kanayama Pottery and myself in  Goshogawara\, Aomori\, Japan.  This workshop will take place in October\, 2025 at Tsugaru Kanayama Pottery. \nBeginning 2002\, over 130 ceramic artists and potters from around the world have been selected to participate in similar woodfire programs at Kanayama. The programs focus on the exchange of techniques and ideas about ceramic art and wood fire. By working together and freely sharing information\, the sponsors seek to encourage mutual understanding and cooperation among potters throughout the world.  Past programs can be view at: www.makigama.org
URL:https://leemiddleman.com/upcoming-shows-event/kanayama-wood-fire-festival-workshop-goshogawara-japan/
LOCATION:Tsugaru Kanayama\, Goshogawara\, Aomori\, Japan
ATTACH;FMTTYPE=image/jpeg:https://leemiddleman.com/wp-content/uploads/2023/04/Kanayama-Icon.jpeg
END:VEVENT
END:VCALENDAR